BEGIN:VCALENDAR
VERSION:2.0
PRODID:-//Date iCal//NONSGML kigkonsult.se iCalcreator 2.20.2//
METHOD:PUBLISH
X-WR-CALNAME;VALUE=TEXT:Oranje
BEGIN:VTIMEZONE
TZID:Europe/Berlin
BEGIN:STANDARD
DTSTART:20251026T030000
TZOFFSETFROM:+0200
TZOFFSETTO:+0100
RDATE:20261025T030000
TZNAME:CET
END:STANDARD
BEGIN:DAYLIGHT
DTSTART:20260329T020000
TZOFFSETFROM:+0100
TZOFFSETTO:+0200
TZNAME:CEST
END:DAYLIGHT
END:VTIMEZONE
BEGIN:VEVENT
UID:calendar.3601.field_date.0@oranje-ijsselmuiden.nl
DTSTAMP:20260420T102602Z
CREATED:20260418T081903Z
DESCRIPTION:Straatparade Kampen
DTSTART;TZID=Europe/Berlin:20260427T180000
DTEND;TZID=Europe/Berlin:20260427T200000
LAST-MODIFIED:20260418T081903Z
LOCATION:Erfgenamenstraat 1a\, IJsselmuiden
SUMMARY:Straatparade Kampen
URL;TYPE=URI:https://oranje-ijsselmuiden.nl/oranje/agenda/straatparade-kamp
 en-3
END:VEVENT
END:VCALENDAR
